Workbook
Name Lagerartikel: 'Artikelliste import System '!$A$1:$N$26

Sheet Mengenermittlung 
A3: Quantity determination via wall surfaces | D3: #VALUE!
A7: Which system would you like to use | D7: Wandstärke 25cm
A9: Net wall area (excluding windows and door openings) | D9: 65 | E9: sqm
A11: Door openings (standard doors up to 1.50 m wide) | E11: pcs
A12: Door openings (standard doors from 1.50 m to 3.50 m wide) | E12: pcs
A15: Item number | B15: BRIQ type | C15: Designation | D15: Number of pieces
A16: =IF($D$7="Wandstärke 25cm",'Artikelliste import System '!C4,IF($D$7="Wandstärke 15cm",'Artikelliste import System '!C8,"")) -> 000009 | B16: =IF($D$7="Wandstärke 25cm",'Artikelliste import System '!D4,IF($D$7="Wandstärke 15cm",'Artikelliste import System '!D8,"")) -> WS25B25mZNHC24 | D16: =IF($D$9>0,8*$D$9*'Prozentuale Verteilung '!D9,"") -> 20.8
A17: =IF($D$7="Wandstärke 25cm",'Artikelliste import System '!C5,IF($D$7="Wandstärke 15cm",'Artikelliste import System '!C9,"")) -> 000010 | B17: =IF($D$7="Wandstärke 25cm",'Artikelliste import System '!D5,IF($D$7="Wandstärke 15cm",'Artikelliste import System '!D9,"")) -> WS25B25oZNHC24 | D17: =IF($D$9>0,8*$D$9*'Prozentuale Verteilung '!D10,"") -> 5.2
A18: =IF($D$7="Wandstärke 25cm",'Artikelliste import System '!C6,IF($D$7="Wandstärke 15cm",'Artikelliste import System '!C10,"")) -> 000011 | B18: =IF($D$7="Wandstärke 25cm",'Artikelliste import System '!D6,IF($D$7="Wandstärke 15cm",'Artikelliste import System '!D10,"")) -> WS25B50mZNHC24 | D18: =IF($D$9>0,8*$D$9*'Prozentuale Verteilung '!D11,"") -> 488.8
A19: =IF($D$7="Wandstärke 25cm",'Artikelliste import System '!C7,IF($D$7="Wandstärke 15cm",'Artikelliste import System '!C11,"")) -> 000012 | B19: =IF($D$7="Wandstärke 25cm",'Artikelliste import System '!D7,IF($D$7="Wandstärke 15cm",'Artikelliste import System '!D11,"")) -> WS25B50oZNHC24 | D19: =IF($D$9>0,8*$D$9*'Prozentuale Verteilung '!D12,"") -> 5.2
A20: =IF($D$7="Wandstärke 25cm",'Artikelliste import System '!C16,IF($D$7="Wandstärke 15cm","")) -> 000121 | B20: =IF($D$7="Wandstärke 25cm",'Artikelliste import System '!D16,IF($D$7="Wandstärke 15cm","")) -> WS25B200BmZNHC24 | D20: =IF(D11>0,D11,"")
A21: =IF($D$7="Wandstärke 25cm",'Artikelliste import System '!C17,IF($D$7="Wandstärke 15cm","")) -> 000129 | B21: =IF($D$7="Wandstärke 25cm",'Artikelliste import System '!D17,IF($D$7="Wandstärke 15cm","")) -> WS25B400BmZNHC24 | D21: =IF(D12>0,D12,"")

Sheet Prozentuale Verteilung 
A3: Prozentuale Verteilung
A5: Einheit | B5: pro qm Wandfläche
A8: ='Mengenermittlung '!A15 -> Item number | B8: ='Mengenermittlung '!B15 -> BRIQ type | C8: ='Mengenermittlung '!C15 -> Designation | D8: Prozent
A9: ='Mengenermittlung '!A16 -> 000009 | B9: ='Mengenermittlung '!B16 -> WS25B25mZNHC24 | C9: ='Mengenermittlung '!C16 -> 0 | D9: 0.04
A10: ='Mengenermittlung '!A17 -> 000010 | B10: ='Mengenermittlung '!B17 -> WS25B25oZNHC24 | C10: ='Mengenermittlung '!C17 -> 0 | D10: 0.01
A11: ='Mengenermittlung '!A18 -> 000011 | B11: ='Mengenermittlung '!B18 -> WS25B50mZNHC24 | C11: ='Mengenermittlung '!C18 -> 0 | D11: 0.94
A12: ='Mengenermittlung '!A19 -> 000012 | B12: ='Mengenermittlung '!B19 -> WS25B50oZNHC24 | C12: ='Mengenermittlung '!C19 -> 0 | D12: 0.01
A13: ='Mengenermittlung '!A20 -> 000121 | B13: ='Mengenermittlung '!B20 -> WS25B200BmZNHC24 | C13: ='Mengenermittlung '!C20 -> 0 | D13: ?
A14: ='Mengenermittlung '!A21 -> 000129 | B14: ='Mengenermittlung '!B21 -> WS25B400BmZNHC24 | C14: ='Mengenermittlung '!C21 -> 0 | D14: ?

Sheet Artikelliste import System 
A1: Artikelklasse | B1: Ausgewählt | C1: Artikel Nr. | D1: Spezifikation DE | E1: Spezifikation EN | F1: Art | G1: Buchungsklasse | H1: Steuerkategorie | I1: Preisklasse | J1: Artikelstatus | K1: Standardlager | L1: Basiseinheit | M1: Produktmanager | N1: Aktuelle Kosten
A2: DÜBEL | B2: False | C2: 000004 | D2: D014902 Verriegelungsdübel WS15 | F2: Fertigprodukt | G2: BESTAND | H2: MWSTVOLL | J2: Aktiv | L2: STÜCK | N2: 0
A3: DÜBEL | B3: False | C3: 000008 | D3: D024902 - Verriegelungsdübel WS25 | F3: Fertigprodukt | G3: BESTAND | H3: MWSTVOLL | J3: Aktiv | L3: STÜCK | N3: 0
A4: BRIQ | B4: False | C4: 000009 | D4: WS25B25mZNHC24 | F4: Fertigprodukt | G4: BESTAND | H4: MWSTVOLL | J4: Aktiv | L4: STÜCK | N4: 0
A5: BRIQ | B5: False | C5: 000010 | D5: WS25B25oZNHC24 | F5: Fertigprodukt | G5: BESTAND | H5: MWSTVOLL | J5: Aktiv | L5: STÜCK | N5: 0
A6: BRIQ | B6: False | C6: 000011 | D6: WS25B50mZNHC24 | F6: Fertigprodukt | G6: BESTAND | H6: MWSTVOLL | J6: Aktiv | L6: STÜCK | N6: 0
A7: BRIQ | B7: False | C7: 000012 | D7: WS25B50oZNHC24 | F7: Fertigprodukt | G7: BESTAND | H7: MWSTVOLL | J7: Aktiv | L7: STÜCK | N7: 0
A8: BRIQ | B8: False | C8: 000029 | D8: WS15B25mZNHC24 | F8: Fertigprodukt | G8: BESTAND | H8: MWSTVOLL | J8: Aktiv | L8: STÜCK | N8: 0
A9: BRIQ | B9: False | C9: 000030 | D9: WS15B25oZNHC24 | F9: Fertigprodukt | G9: BESTAND | H9: MWSTVOLL | J9: Aktiv | L9: STÜCK | N9: 0
A10: BRIQ | B10: False | C10: 000031 | D10: WS15B50mZNHC24 | F10: Fertigprodukt | G10: BESTAND | H10: MWSTVOLL | J10: Aktiv | L10: STÜCK | N10: 0
A11: BRIQ | B11: False | C11: 000032 | D11: WS15B50oZNHC24 | F11: Fertigprodukt | G11: BESTAND | H11: MWSTVOLL | J11: Aktiv | L11: STÜCK | N11: 0
A12: BRIQ | B12: False | C12: 000033 | D12: WS25B25mZNHC16 | F12: Fertigprodukt | G12: BESTAND | H12: MWSTVOLL | J12: Aktiv | L12: STÜCK | N12: 0
A13: BRIQ | B13: False | C13: 000034 | D13: WS25B25oZNHC16 | F13: Fertigprodukt | G13: BESTAND | H13: MWSTVOLL | J13: Aktiv | L13: STÜCK | N13: 0
... A26: SONDERBRIQ | B26: False | C26: 000670 | D26: Sonder WS25B23mZNHC24 | F26: Fertigprodukt | G26: BESTAND | H26: MWSTVOLL | J26: Aktiv | L26: STÜCK | N26: 0
